<VRTDataset rasterXSize="672240" rasterYSize="1901464">
  <SRS>EPSG:32723</SRS>
  <GeoTransform>497664, 0.5, 0, 8188364, 0, -0.5</GeoTransform>
  <VRTRasterBand dataType="Float32" band="1">
    <NoDataValue>-99</NoDataValue>
    <ColorInterp>Gray</ColorInterp>
    <ComplexSource>
      <SourceFilename relativeToVRT="0">/vsicurl/https://storage.googleapis.com/open-buildings-temporal-data/v1/geotiffs/009d4_2023_06_30/tile_ZKDwNYoPd6s.tif</SourceFilename>
      <SourceBand>2</SourceBand>
      <SourceProperties RasterXSize="25000" RasterYSize="25000" DataType="Float32" BlockXSize="512" BlockYSize="512" />
      <SrcRect xOff="0" yOff="0" xSize="25000" ySize="25000" />
      <DstRect xOff="125000" yOff="1531128" xSize="25000" ySize="25000" />
      <NODATA>-99</NODATA>
    </ComplexSource>
    <ComplexSource>
      <SourceFilename relativeToVRT="0">/vsicurl/https://storage.googleapis.com/open-buildings-temporal-data/v1/geotiffs/009d4_2023_06_30/tile_zbAqMRQLGpw.tif</SourceFilename>
      <SourceBand>2</SourceBand>
      <SourceProperties RasterXSize="25000" RasterYSize="25000" DataType="Float32" BlockXSize="512" BlockYSize="512" />
      <SrcRect xOff="0" yOff="0" xSize="25000" ySize="25000" />
      <DstRect xOff="100000" yOff="1531128" xSize="25000" ySize="25000" />
      <NODATA>-99</NODATA>
    </ComplexSource>
    <ComplexSource>
      <SourceFilename relativeToVRT="0">/vsicurl/https://storage.googleapis.com/open-buildings-temporal-data/v1/geotiffs/009d4_2023_06_30/tile_-UGSliMlEqw.tif</SourceFilename>
      <SourceBand>2</SourceBand>
      <SourceProperties RasterXSize="25000" RasterYSize="25000" DataType="Float32" BlockXSize="512" BlockYSize="512" />
      <SrcRect xOff="0" yOff="0" xSize="25000" ySize="25000" />
      <DstRect xOff="25000" yOff="1556128" xSize="25000" ySize="25000" />
      <NODATA>-99</NODATA>
    </ComplexSource>
    <ComplexSource>
      <SourceFilename relativeToVRT="0">/vsicurl/https://storage.googleapis.com/open-buildings-temporal-data/v1/geotiffs/009d4_2023_06_30/tile_S4RXNSUipjA.tif</SourceFilename>
      <SourceBand>2</SourceBand>
      <SourceProperties RasterXSize="25000" RasterYSize="25000" DataType="Float32" BlockXSize="512" BlockYSize="512" />
      <SrcRect xOff="0" yOff="0" xSize="25000" ySize="25000" />
      <DstRect xOff="50000" yOff="1531128" xSize="25000" ySize="25000" />
      <NODATA>-99</NODATA>
    </ComplexSource>
    <ComplexSource>
      <SourceFilename relativeToVRT="0">/vsicurl/https://storage.googleapis.com/open-buildings-temporal-data/v1/geotiffs/009d4_2023_06_30/tile_v11uI4JM4mw.tif</SourceFilename>
      <SourceBand>2</SourceBand>
      <SourceProperties RasterXSize="25000" RasterYSize="25000" DataType="Float32" BlockXSize="512" BlockYSize="512" />
      <SrcRect xOff="0" yOff="0" xSize="25000" ySize="25000" />
      <DstRect xOff="100000" yOff="1606128" xSize="25000" ySize="25000" />
      <NODATA>-99</NODATA>
    </ComplexSource>
    <ComplexSource>
      <SourceFilename relativeToVRT="0">/vsicurl/https://storage.googleapis.com/open-buildings-temporal-data/v1/geotiffs/009d4_2023_06_30/tile_z_617LWzyVY.tif</SourceFilename>
      <SourceBand>2</SourceBand>
      <SourceProperties RasterXSize="25000" RasterYSize="25000" DataType="Float32" BlockXSize="512" BlockYSize="512" />
      <SrcRect xOff="0" yOff="0" xSize="25000" ySize="25000" />
      <DstRect xOff="125000" yOff="1581128" xSize="25000" ySize="25000" />
      <NODATA>-99</NODATA>
    </ComplexSource>
    <ComplexSource>
      <SourceFilename relativeToVRT="0">/vsicurl/https://storage.googleapis.com/open-buildings-temporal-data/v1/geotiffs/009d4_2023_06_30/tile_2CZpc-DVGbI.tif</SourceFilename>
      <SourceBand>2</SourceBand>
      <SourceProperties RasterXSize="25000" RasterYSize="25000" DataType="Float32" BlockXSize="512" BlockYSize="512" />
      <SrcRect xOff="0" yOff="0" xSize="25000" ySize="25000" />
      <DstRect xOff="0" yOff="1456128" xSize="25000" ySize="25000" />
      <NODATA>-99</NODATA>
    </ComplexSource>
    <ComplexSource>
      <SourceFilename relativeToVRT="0">/vsicurl/https://storage.googleapis.com/open-buildings-temporal-data/v1/geotiffs/009d4_2023_06_30/tile_vOz5AkBALtg.tif</SourceFilename>
      <SourceBand>2</SourceBand>
      <SourceProperties RasterXSize="25000" RasterYSize="25000" DataType="Float32" BlockXSize="512" BlockYSize="512" />
      <SrcRect xOff="0" yOff="0" xSize="25000" ySize="25000" />
      <DstRect xOff="100000" yOff="1481128" xSize="25000" ySize="25000" />
      <NODATA>-99</NODATA>
    </ComplexSource>
    <ComplexSource>
      <SourceFilename relativeToVRT="0">/vsicurl/https://storage.googleapis.com/open-buildings-temporal-data/v1/geotiffs/009d4_2023_06_30/tile_2cNLjWrFnKY.tif</SourceFilename>
      <SourceBand>2</SourceBand>
      <SourceProperties RasterXSize="25000" RasterYSize="25000" DataType="Float32" BlockXSize="512" BlockYSize="512" />
      <SrcRect xOff="0" yOff="0" xSize="25000" ySize="25000" />
      <DstRect xOff="25000" yOff="1606128" xSize="25000" ySize="25000" />
      <NODATA>-99</NODATA>
    </ComplexSource>
    <ComplexSource>
      <SourceFilename relativeToVRT="0">/vsicurl/https://storage.googleapis.com/open-buildings-temporal-data/v1/geotiffs/009d4_2023_06_30/tile_o1-61hsyOkU.tif</SourceFilename>
      <SourceBand>2</SourceBand>
      <SourceProperties RasterXSize="25000" RasterYSize="25000" DataType="Float32" BlockXSize="512" BlockYSize="512" />
      <SrcRect xOff="0" yOff="0" xSize="25000" ySize="25000" />
      <DstRect xOff="100000" yOff="1506128" xSize="25000" ySize="25000" />
      <NODATA>-99</NODATA>
    </ComplexSource>
    <ComplexSource>
      <SourceFilename relativeToVRT="0">/vsicurl/https://storage.googleapis.com/open-buildings-temporal-data/v1/geotiffs/009d4_2023_06_30/tile_g5v13rBAOKI.tif</SourceFilename>
      <SourceBand>2</SourceBand>
      <SourceProperties RasterXSize="25000" RasterYSize="25000" DataType="Float32" BlockXSize="512" BlockYSize="512" />
      <SrcRect xOff="0" yOff="0" xSize="25000" ySize="25000" />
      <DstRect xOff="125000" yOff="1481128" xSize="25000" ySize="25000" />
      <NODATA>-99</NODATA>
    </ComplexSource>
    <ComplexSource>
      <SourceFilename relativeToVRT="0">/vsicurl/https://storage.googleapis.com/open-buildings-temporal-data/v1/geotiffs/009d4_2023_06_30/tile_b7QQYQv7iz0.tif</SourceFilename>
      <SourceBand>2</SourceBand>
      <SourceProperties RasterXSize="25000" RasterYSize="25000" DataType="Float32" BlockXSize="512" BlockYSize="512" />
      <SrcRect xOff="0" yOff="0" xSize="25000" ySize="25000" />
      <DstRect xOff="25000" yOff="1481128" xSize="25000" ySize="25000" />
      <NODATA>-99</NODATA>
    </ComplexSource>
    <ComplexSource>
      <SourceFilename relativeToVRT="0">/vsicurl/https://storage.googleapis.com/open-buildings-temporal-data/v1/geotiffs/009d4_2023_06_30/tile_7_FhmlnUu8k.tif</SourceFilename>
      <SourceBand>2</SourceBand>
      <SourceProperties RasterXSize="25000" RasterYSize="25000" DataType="Float32" BlockXSize="512" BlockYSize="512" />
      <SrcRect xOff="0" yOff="0" xSize="25000" ySize="25000" />
      <DstRect xOff="125000" yOff="1506128" xSize="25000" ySize="25000" />
      <NODATA>-99</NODATA>
    </ComplexSource>
    <ComplexSource>
      <SourceFilename relativeToVRT="0">/vsicurl/https://storage.googleapis.com/open-buildings-temporal-data/v1/geotiffs/009d4_2023_06_30/tile_OPyTMevddBM.tif</SourceFilename>
      <SourceBand>2</SourceBand>
      <SourceProperties RasterXSize="25000" RasterYSize="25000" DataType="Float32" BlockXSize="512" BlockYSize="512" />
      <SrcRect xOff="0" yOff="0" xSize="25000" ySize="25000" />
      <DstRect xOff="100000" yOff="1581128" xSize="25000" ySize="25000" />
      <NODATA>-99</NODATA>
    </ComplexSource>
    <ComplexSource>
      <SourceFilename relativeToVRT="0">/vsicurl/https://storage.googleapis.com/open-buildings-temporal-data/v1/geotiffs/009d4_2023_06_30/tile_t6h_V2dImE8.tif</SourceFilename>
      <SourceBand>2</SourceBand>
      <SourceProperties RasterXSize="25000" RasterYSize="25000" DataType="Float32" BlockXSize="512" BlockYSize="512" />
      <SrcRect xOff="0" yOff="0" xSize="25000" ySize="25000" />
      <DstRect xOff="125000" yOff="1556128" xSize="25000" ySize="25000" />
      <NODATA>-99</NODATA>
    </ComplexSource>
    <ComplexSource>
      <SourceFilename relativeToVRT="0">/vsicurl/https://storage.googleapis.com/open-buildings-temporal-data/v1/geotiffs/009d4_2023_06_30/tile_8U8Vhl28GRY.tif</SourceFilename>
      <SourceBand>2</SourceBand>
      <SourceProperties RasterXSize="25000" RasterYSize="25000" DataType="Float32" BlockXSize="512" BlockYSize="512" />
      <SrcRect xOff="0" yOff="0" xSize="25000" ySize="25000" />
      <DstRect xOff="50000" yOff="1481128" xSize="25000" ySize="25000" />
      <NODATA>-99</NODATA>
    </ComplexSource>
    <ComplexSource>
      <SourceFilename relativeToVRT="0">/vsicurl/https://storage.googleapis.com/open-buildings-temporal-data/v1/geotiffs/009d4_2023_06_30/tile_d__Yx4DTdLA.tif</SourceFilename>
      <SourceBand>2</SourceBand>
      <SourceProperties RasterXSize="25000" RasterYSize="25000" DataType="Float32" BlockXSize="512" BlockYSize="512" />
      <SrcRect xOff="0" yOff="0" xSize="25000" ySize="25000" />
      <DstRect xOff="125000" yOff="1606128" xSize="25000" ySize="25000" />
      <NODATA>-99</NODATA>
    </ComplexSource>
    <ComplexSource>
      <SourceFilename relativeToVRT="0">/vsicurl/https://storage.googleapis.com/open-buildings-temporal-data/v1/geotiffs/009d4_2023_06_30/tile_wLNqgNDe84E.tif</SourceFilename>
      <SourceBand>2</SourceBand>
      <SourceProperties RasterXSize="25000" RasterYSize="25000" DataType="Float32" BlockXSize="512" BlockYSize="512" />
      <SrcRect xOff="0" yOff="0" xSize="25000" ySize="25000" />
      <DstRect xOff="25000" yOff="1456128" xSize="25000" ySize="25000" />
      <NODATA>-99</NODATA>
    </ComplexSource>
    <ComplexSource>
      <SourceFilename relativeToVRT="0">/vsicurl/https://storage.googleapis.com/open-buildings-temporal-data/v1/geotiffs/009d4_2023_06_30/tile_yEDFUViKoQs.tif</SourceFilename>
      <SourceBand>2</SourceBand>
      <SourceProperties RasterXSize="25000" RasterYSize="25000" DataType="Float32" BlockXSize="512" BlockYSize="512" />
      <SrcRect xOff="0" yOff="0" xSize="25000" ySize="25000" />
      <DstRect xOff="50000" yOff="1606128" xSize="25000" ySize="25000" />
      <NODATA>-99</NODATA>
    </ComplexSource>
    <ComplexSource>
      <SourceFilename relativeToVRT="0">/vsicurl/https://storage.googleapis.com/open-buildings-temporal-data/v1/geotiffs/009d4_2023_06_30/tile_lIxhoVlvqRY.tif</SourceFilename>
      <SourceBand>2</SourceBand>
      <SourceProperties RasterXSize="25000" RasterYSize="25000" DataType="Float32" BlockXSize="512" BlockYSize="512" />
      <SrcRect xOff="0" yOff="0" xSize="25000" ySize="25000" />
      <DstRect xOff="25000" yOff="1581128" xSize="25000" ySize="25000" />
      <NODATA>-99</NODATA>
    </ComplexSource>
    <ComplexSource>
      <SourceFilename relativeToVRT="0">/vsicurl/https://storage.googleapis.com/open-buildings-temporal-data/v1/geotiffs/009d4_2023_06_30/tile_mVa0i5xTnH8.tif</SourceFilename>
      <SourceBand>2</SourceBand>
      <SourceProperties RasterXSize="25000" RasterYSize="25000" DataType="Float32" BlockXSize="512" BlockYSize="512" />
      <SrcRect xOff="0" yOff="0" xSize="25000" ySize="25000" />
      <DstRect xOff="75000" yOff="1531128" xSize="25000" ySize="25000" />
      <NODATA>-99</NODATA>
    </ComplexSource>
    <ComplexSource>
      <SourceFilename relativeToVRT="0">/vsicurl/https://storage.googleapis.com/open-buildings-temporal-data/v1/geotiffs/009d4_2023_06_30/tile_IXag5fQXF2U.tif</SourceFilename>
      <SourceBand>2</SourceBand>
      <SourceProperties RasterXSize="25000" RasterYSize="25000" DataType="Float32" BlockXSize="512" BlockYSize="512" />
      <SrcRect xOff="0" yOff="0" xSize="25000" ySize="25000" />
      <DstRect xOff="0" yOff="1581128" xSize="25000" ySize="25000" />
      <NODATA>-99</NODATA>
    </ComplexSource>
    <ComplexSource>
      <SourceFilename relativeToVRT="0">/vsicurl/https://storage.googleapis.com/open-buildings-temporal-data/v1/geotiffs/009d4_2023_06_30/tile_LxX4HeXsd1c.tif</SourceFilename>
      <SourceBand>2</SourceBand>
      <SourceProperties RasterXSize="25000" RasterYSize="25000" DataType="Float32" BlockXSize="512" BlockYSize="512" />
      <SrcRect xOff="0" yOff="0" xSize="25000" ySize="25000" />
      <DstRect xOff="0" yOff="1481128" xSize="25000" ySize="25000" />
      <NODATA>-99</NODATA>
    </ComplexSource>
    <ComplexSource>
      <SourceFilename relativeToVRT="0">/vsicurl/https://storage.googleapis.com/open-buildings-temporal-data/v1/geotiffs/009d4_2023_06_30/tile_Lewu_-2B6_E.tif</SourceFilename>
      <SourceBand>2</SourceBand>
      <SourceProperties RasterXSize="25000" RasterYSize="25000" DataType="Float32" BlockXSize="512" BlockYSize="512" />
      <SrcRect xOff="0" yOff="0" xSize="25000" ySize="25000" />
      <DstRect xOff="75000" yOff="1581128" xSize="25000" ySize="25000" />
      <NODATA>-99</NODATA>
    </ComplexSource>
    <ComplexSource>
      <SourceFilename relativeToVRT="0">/vsicurl/https://storage.googleapis.com/open-buildings-temporal-data/v1/geotiffs/009d4_2023_06_30/tile_UGhN8t5yXE0.tif</SourceFilename>
      <SourceBand>2</SourceBand>
      <SourceProperties RasterXSize="25000" RasterYSize="25000" DataType="Float32" BlockXSize="512" BlockYSize="512" />
      <SrcRect xOff="0" yOff="0" xSize="25000" ySize="25000" />
      <DstRect xOff="0" yOff="1431128" xSize="25000" ySize="25000" />
      <NODATA>-99</NODATA>
    </ComplexSource>
    <ComplexSource>
      <SourceFilename relativeToVRT="0">/vsicurl/https://storage.googleapis.com/open-buildings-temporal-data/v1/geotiffs/009d4_2023_06_30/tile_xZmO4osyQCw.tif</SourceFilename>
      <SourceBand>2</SourceBand>
      <SourceProperties RasterXSize="25000" RasterYSize="25000" DataType="Float32" BlockXSize="512" BlockYSize="512" />
      <SrcRect xOff="0" yOff="0" xSize="25000" ySize="25000" />
      <DstRect xOff="25000" yOff="1431128" xSize="25000" ySize="25000" />
      <NODATA>-99</NODATA>
    </ComplexSource>
    <ComplexSource>
      <SourceFilename relativeToVRT="0">/vsicurl/https://storage.googleapis.com/open-buildings-temporal-data/v1/geotiffs/009d4_2023_06_30/tile_VWNEyV52eXY.tif</SourceFilename>
      <SourceBand>2</SourceBand>
      <SourceProperties RasterXSize="25000" RasterYSize="25000" DataType="Float32" BlockXSize="512" BlockYSize="512" />
      <SrcRect xOff="0" yOff="0" xSize="25000" ySize="25000" />
      <DstRect xOff="75000" yOff="1556128" xSize="25000" ySize="25000" />
      <NODATA>-99</NODATA>
    </ComplexSource>
    <ComplexSource>
      <SourceFilename relativeToVRT="0">/vsicurl/https://storage.googleapis.com/open-buildings-temporal-data/v1/geotiffs/009d4_2023_06_30/tile_Q34s6zxOFys.tif</SourceFilename>
      <SourceBand>2</SourceBand>
      <SourceProperties RasterXSize="25000" RasterYSize="25000" DataType="Float32" BlockXSize="512" BlockYSize="512" />
      <SrcRect xOff="0" yOff="0" xSize="25000" ySize="25000" />
      <DstRect xOff="75000" yOff="1606128" xSize="25000" ySize="25000" />
      <NODATA>-99</NODATA>
    </ComplexSource>
    <ComplexSource>
      <SourceFilename relativeToVRT="0">/vsicurl/https://storage.googleapis.com/open-buildings-temporal-data/v1/geotiffs/009d4_2023_06_30/tile_I1NbX4KqEZ0.tif</SourceFilename>
      <SourceBand>2</SourceBand>
      <SourceProperties RasterXSize="25000" RasterYSize="25000" DataType="Float32" BlockXSize="512" BlockYSize="512" />
      <SrcRect xOff="0" yOff="0" xSize="25000" ySize="25000" />
      <DstRect xOff="100000" yOff="1556128" xSize="25000" ySize="25000" />
      <NODATA>-99</NODATA>
    </ComplexSource>
    <ComplexSource>
      <SourceFilename relativeToVRT="0">/vsicurl/https://storage.googleapis.com/open-buildings-temporal-data/v1/geotiffs/009d4_2023_06_30/tile_-NwxtM-1v-g.tif</SourceFilename>
      <SourceBand>2</SourceBand>
      <SourceProperties RasterXSize="25000" RasterYSize="25000" DataType="Float32" BlockXSize="512" BlockYSize="512" />
      <SrcRect xOff="0" yOff="0" xSize="25000" ySize="25000" />
      <DstRect xOff="0" yOff="1531128" xSize="25000" ySize="25000" />
      <NODATA>-99</NODATA>
    </ComplexSource>
    <ComplexSource>
      <SourceFilename relativeToVRT="0">/vsicurl/https://storage.googleapis.com/open-buildings-temporal-data/v1/geotiffs/009d4_2023_06_30/tile_QLPCY8H3UlQ.tif</SourceFilename>
      <SourceBand>2</SourceBand>
      <SourceProperties RasterXSize="25000" RasterYSize="25000" DataType="Float32" BlockXSize="512" BlockYSize="512" />
      <SrcRect xOff="0" yOff="0" xSize="25000" ySize="25000" />
      <DstRect xOff="0" yOff="1556128" xSize="25000" ySize="25000" />
      <NODATA>-99</NODATA>
    </ComplexSource>
    <ComplexSource>
      <SourceFilename relativeToVRT="0">/vsicurl/https://storage.googleapis.com/open-buildings-temporal-data/v1/geotiffs/009d4_2023_06_30/tile_JdolUQoN8Yc.tif</SourceFilename>
      <SourceBand>2</SourceBand>
      <SourceProperties RasterXSize="25000" RasterYSize="25000" DataType="Float32" BlockXSize="512" BlockYSize="512" />
      <SrcRect xOff="0" yOff="0" xSize="25000" ySize="25000" />
      <DstRect xOff="75000" yOff="1506128" xSize="25000" ySize="25000" />
      <NODATA>-99</NODATA>
    </ComplexSource>
    <ComplexSource>
      <SourceFilename relativeToVRT="0">/vsicurl/https://storage.googleapis.com/open-buildings-temporal-data/v1/geotiffs/009d4_2023_06_30/tile_wdFXrAQIWYA.tif</SourceFilename>
      <SourceBand>2</SourceBand>
      <SourceProperties RasterXSize="25000" RasterYSize="25000" DataType="Float32" BlockXSize="512" BlockYSize="512" />
      <SrcRect xOff="0" yOff="0" xSize="25000" ySize="25000" />
      <DstRect xOff="50000" yOff="1556128" xSize="25000" ySize="25000" />
      <NODATA>-99</NODATA>
    </ComplexSource>
    <ComplexSource>
      <SourceFilename relativeToVRT="0">/vsicurl/https://storage.googleapis.com/open-buildings-temporal-data/v1/geotiffs/009d4_2023_06_30/tile_iQB1McsUhyk.tif</SourceFilename>
      <SourceBand>2</SourceBand>
      <SourceProperties RasterXSize="25000" RasterYSize="25000" DataType="Float32" BlockXSize="512" BlockYSize="512" />
      <SrcRect xOff="0" yOff="0" xSize="25000" ySize="25000" />
      <DstRect xOff="75000" yOff="1481128" xSize="25000" ySize="25000" />
      <NODATA>-99</NODATA>
    </ComplexSource>
    <ComplexSource>
      <SourceFilename relativeToVRT="0">/vsicurl/https://storage.googleapis.com/open-buildings-temporal-data/v1/geotiffs/009d4_2023_06_30/tile_j4m3KZDEOEk.tif</SourceFilename>
      <SourceBand>2</SourceBand>
      <SourceProperties RasterXSize="25000" RasterYSize="25000" DataType="Float32" BlockXSize="512" BlockYSize="512" />
      <SrcRect xOff="0" yOff="0" xSize="25000" ySize="25000" />
      <DstRect xOff="25000" yOff="1531128" xSize="25000" ySize="25000" />
      <NODATA>-99</NODATA>
    </ComplexSource>
    <ComplexSource>
      <SourceFilename relativeToVRT="0">/vsicurl/https://storage.googleapis.com/open-buildings-temporal-data/v1/geotiffs/009d4_2023_06_30/tile__LMf7vqjMs0.tif</SourceFilename>
      <SourceBand>2</SourceBand>
      <SourceProperties RasterXSize="25000" RasterYSize="25000" DataType="Float32" BlockXSize="512" BlockYSize="512" />
      <SrcRect xOff="0" yOff="0" xSize="25000" ySize="25000" />
      <DstRect xOff="0" yOff="1506128" xSize="25000" ySize="25000" />
      <NODATA>-99</NODATA>
    </ComplexSource>
    <ComplexSource>
      <SourceFilename relativeToVRT="0">/vsicurl/https://storage.googleapis.com/open-buildings-temporal-data/v1/geotiffs/009d4_2023_06_30/tile_mUgS8oacvRA.tif</SourceFilename>
      <SourceBand>2</SourceBand>
      <SourceProperties RasterXSize="25000" RasterYSize="25000" DataType="Float32" BlockXSize="512" BlockYSize="512" />
      <SrcRect xOff="0" yOff="0" xSize="25000" ySize="25000" />
      <DstRect xOff="50000" yOff="1506128" xSize="25000" ySize="25000" />
      <NODATA>-99</NODATA>
    </ComplexSource>
    <ComplexSource>
      <SourceFilename relativeToVRT="0">/vsicurl/https://storage.googleapis.com/open-buildings-temporal-data/v1/geotiffs/009d4_2023_06_30/tile_GZos3achKvA.tif</SourceFilename>
      <SourceBand>2</SourceBand>
      <SourceProperties RasterXSize="25000" RasterYSize="25000" DataType="Float32" BlockXSize="512" BlockYSize="512" />
      <SrcRect xOff="0" yOff="0" xSize="25000" ySize="25000" />
      <DstRect xOff="25000" yOff="1506128" xSize="25000" ySize="25000" />
      <NODATA>-99</NODATA>
    </ComplexSource>
    <ComplexSource>
      <SourceFilename relativeToVRT="0">/vsicurl/https://storage.googleapis.com/open-buildings-temporal-data/v1/geotiffs/009d4_2023_06_30/tile_2V7ZsZa1MaY.tif</SourceFilename>
      <SourceBand>2</SourceBand>
      <SourceProperties RasterXSize="25000" RasterYSize="25000" DataType="Float32" BlockXSize="512" BlockYSize="512" />
      <SrcRect xOff="0" yOff="0" xSize="25000" ySize="25000" />
      <DstRect xOff="50000" yOff="1456128" xSize="25000" ySize="25000" />
      <NODATA>-99</NODATA>
    </ComplexSource>
    <ComplexSource>
      <SourceFilename relativeToVRT="0">/vsicurl/https://storage.googleapis.com/open-buildings-temporal-data/v1/geotiffs/009d4_2023_06_30/tile_Nbs9JwFbiWo.tif</SourceFilename>
      <SourceBand>2</SourceBand>
      <SourceProperties RasterXSize="25000" RasterYSize="25000" DataType="Float32" BlockXSize="512" BlockYSize="512" />
      <SrcRect xOff="0" yOff="0" xSize="25000" ySize="25000" />
      <DstRect xOff="75000" yOff="1456128" xSize="25000" ySize="25000" />
      <NODATA>-99</NODATA>
    </ComplexSource>
    <ComplexSource>
      <SourceFilename relativeToVRT="0">/vsicurl/https://storage.googleapis.com/open-buildings-temporal-data/v1/geotiffs/009d4_2023_06_30/tile_k6dlWei2ON8.tif</SourceFilename>
      <SourceBand>2</SourceBand>
      <SourceProperties RasterXSize="25000" RasterYSize="25000" DataType="Float32" BlockXSize="512" BlockYSize="512" />
      <SrcRect xOff="0" yOff="0" xSize="25000" ySize="25000" />
      <DstRect xOff="50000" yOff="1581128" xSize="25000" ySize="25000" />
      <NODATA>-99</NODATA>
    </ComplexSource>
    <ComplexSource>
      <SourceFilename relativeToVRT="0">/vsicurl/https://storage.googleapis.com/open-buildings-temporal-data/v1/geotiffs/00b04_2023_06_30/tile_IzQYPfBoc-Y.tif</SourceFilename>
      <SourceBand>2</SourceBand>
      <SourceProperties RasterXSize="25000" RasterYSize="25000" DataType="Float32" BlockXSize="512" BlockYSize="512" />
      <SrcRect xOff="0" yOff="0" xSize="25000" ySize="25000" />
      <DstRect xOff="641096" yOff="634104" xSize="25000" ySize="25000" />
      <NODATA>-99</NODATA>
    </ComplexSource>
    <ComplexSource>
      <SourceFilename relativeToVRT="0">/vsicurl/https://storage.googleapis.com/open-buildings-temporal-data/v1/geotiffs/00b04_2023_06_30/tile_DLF76Gco0SQ.tif</SourceFilename>
      <SourceBand>2</SourceBand>
      <SourceProperties RasterXSize="25000" RasterYSize="25000" DataType="Float32" BlockXSize="512" BlockYSize="512" />
      <SrcRect xOff="0" yOff="0" xSize="25000" ySize="25000" />
      <DstRect xOff="616096" yOff="634104" xSize="25000" ySize="25000" />
      <NODATA>-99</NODATA>
    </ComplexSource>
    <ComplexSource>
      <SourceFilename relativeToVRT="0">/vsicurl/https://storage.googleapis.com/open-buildings-temporal-data/v1/geotiffs/00b04_2023_06_30/tile_q348qzFPqIc.tif</SourceFilename>
      <SourceBand>2</SourceBand>
      <SourceProperties RasterXSize="25000" RasterYSize="25000" DataType="Float32" BlockXSize="512" BlockYSize="512" />
      <SrcRect xOff="0" yOff="0" xSize="25000" ySize="25000" />
      <DstRect xOff="541096" yOff="659104" xSize="25000" ySize="25000" />
      <NODATA>-99</NODATA>
    </ComplexSource>
    <ComplexSource>
      <SourceFilename relativeToVRT="0">/vsicurl/https://storage.googleapis.com/open-buildings-temporal-data/v1/geotiffs/00b04_2023_06_30/tile_5El7kPlmvKE.tif</SourceFilename>
