<VRTDataset rasterXSize="672240" rasterYSize="1870744">
  <SRS>EPSG:32723</SRS>
  <GeoTransform>497664, 0.5, 0, 8188364, 0, -0.5</GeoTransform>
  <VRTRasterBand dataType="Float32" band="1">
    <NoDataValue>-99</NoDataValue>
    <ColorInterp>Gray</ColorInterp>
    <ComplexSource>
      <SourceFilename relativeToVRT="0">/vsicurl/https://storage.googleapis.com/open-buildings-temporal-data/v1/geotiffs/00afc_2016_06_30/tile_np5q4AqDuuI.tif</SourceFilename>
      <SourceBand>2</SourceBand>
      <SourceProperties RasterXSize="25000" RasterYSize="25000" DataType="Float32" BlockXSize="512" BlockYSize="512" />
      <SrcRect xOff="0" yOff="0" xSize="25000" ySize="25000" />
      <DstRect xOff="512072" yOff="591096" xSize="25000" ySize="25000" />
      <NODATA>-99</NODATA>
    </ComplexSource>
    <ComplexSource>
      <SourceFilename relativeToVRT="0">/vsicurl/https://storage.googleapis.com/open-buildings-temporal-data/v1/geotiffs/00afc_2016_06_30/tile_Lk8ypTBMm4Y.tif</SourceFilename>
      <SourceBand>2</SourceBand>
      <SourceProperties RasterXSize="25000" RasterYSize="25000" DataType="Float32" BlockXSize="512" BlockYSize="512" />
      <SrcRect xOff="0" yOff="0" xSize="25000" ySize="25000" />
      <DstRect xOff="487072" yOff="591096" xSize="25000" ySize="25000" />
      <NODATA>-99</NODATA>
    </ComplexSource>
    <ComplexSource>
      <SourceFilename relativeToVRT="0">/vsicurl/https://storage.googleapis.com/open-buildings-temporal-data/v1/geotiffs/00afc_2016_06_30/tile_HWSntIayLwc.tif</SourceFilename>
      <SourceBand>2</SourceBand>
      <SourceProperties RasterXSize="25000" RasterYSize="25000" DataType="Float32" BlockXSize="512" BlockYSize="512" />
      <SrcRect xOff="0" yOff="0" xSize="25000" ySize="25000" />
      <DstRect xOff="412072" yOff="616096" xSize="25000" ySize="25000" />
      <NODATA>-99</NODATA>
    </ComplexSource>
    <ComplexSource>
      <SourceFilename relativeToVRT="0">/vsicurl/https://storage.googleapis.com/open-buildings-temporal-data/v1/geotiffs/00afc_2016_06_30/tile_kE8Vc68mAX4.tif</SourceFilename>
      <SourceBand>2</SourceBand>
      <SourceProperties RasterXSize="25000" RasterYSize="25000" DataType="Float32" BlockXSize="512" BlockYSize="512" />
      <SrcRect xOff="0" yOff="0" xSize="25000" ySize="25000" />
      <DstRect xOff="437072" yOff="591096" xSize="25000" ySize="25000" />
      <NODATA>-99</NODATA>
    </ComplexSource>
    <ComplexSource>
      <SourceFilename relativeToVRT="0">/vsicurl/https://storage.googleapis.com/open-buildings-temporal-data/v1/geotiffs/00afc_2016_06_30/tile_gJFBFRR9vjg.tif</SourceFilename>
      <SourceBand>2</SourceBand>
      <SourceProperties RasterXSize="25000" RasterYSize="25000" DataType="Float32" BlockXSize="512" BlockYSize="512" />
      <SrcRect xOff="0" yOff="0" xSize="25000" ySize="25000" />
      <DstRect xOff="487072" yOff="666096" xSize="25000" ySize="25000" />
      <NODATA>-99</NODATA>
    </ComplexSource>
    <ComplexSource>
      <SourceFilename relativeToVRT="0">/vsicurl/https://storage.googleapis.com/open-buildings-temporal-data/v1/geotiffs/00afc_2016_06_30/tile_pMJOZ1d2ujE.tif</SourceFilename>
      <SourceBand>2</SourceBand>
      <SourceProperties RasterXSize="25000" RasterYSize="25000" DataType="Float32" BlockXSize="512" BlockYSize="512" />
      <SrcRect xOff="0" yOff="0" xSize="25000" ySize="25000" />
      <DstRect xOff="512072" yOff="641096" xSize="25000" ySize="25000" />
      <NODATA>-99</NODATA>
    </ComplexSource>
    <ComplexSource>
      <SourceFilename relativeToVRT="0">/vsicurl/https://storage.googleapis.com/open-buildings-temporal-data/v1/geotiffs/00afc_2016_06_30/tile_xNc9WMTo8Rg.tif</SourceFilename>
      <SourceBand>2</SourceBand>
      <SourceProperties RasterXSize="25000" RasterYSize="25000" DataType="Float32" BlockXSize="512" BlockYSize="512" />
      <SrcRect xOff="0" yOff="0" xSize="25000" ySize="25000" />
      <DstRect xOff="387072" yOff="516096" xSize="25000" ySize="25000" />
      <NODATA>-99</NODATA>
    </ComplexSource>
    <ComplexSource>
      <SourceFilename relativeToVRT="0">/vsicurl/https://storage.googleapis.com/open-buildings-temporal-data/v1/geotiffs/00afc_2016_06_30/tile_AVc914Z-TBA.tif</SourceFilename>
      <SourceBand>2</SourceBand>
      <SourceProperties RasterXSize="25000" RasterYSize="25000" DataType="Float32" BlockXSize="512" BlockYSize="512" />
      <SrcRect xOff="0" yOff="0" xSize="25000" ySize="25000" />
      <DstRect xOff="487072" yOff="541096" xSize="25000" ySize="25000" />
      <NODATA>-99</NODATA>
    </ComplexSource>
    <ComplexSource>
      <SourceFilename relativeToVRT="0">/vsicurl/https://storage.googleapis.com/open-buildings-temporal-data/v1/geotiffs/00afc_2016_06_30/tile_iRSNLqNIsvM.tif</SourceFilename>
      <SourceBand>2</SourceBand>
      <SourceProperties RasterXSize="25000" RasterYSize="25000" DataType="Float32" BlockXSize="512" BlockYSize="512" />
      <SrcRect xOff="0" yOff="0" xSize="25000" ySize="25000" />
      <DstRect xOff="412072" yOff="666096" xSize="25000" ySize="25000" />
      <NODATA>-99</NODATA>
    </ComplexSource>
    <ComplexSource>
      <SourceFilename relativeToVRT="0">/vsicurl/https://storage.googleapis.com/open-buildings-temporal-data/v1/geotiffs/00afc_2016_06_30/tile_bPMSezxe5cE.tif</SourceFilename>
      <SourceBand>2</SourceBand>
      <SourceProperties RasterXSize="25000" RasterYSize="25000" DataType="Float32" BlockXSize="512" BlockYSize="512" />
      <SrcRect xOff="0" yOff="0" xSize="25000" ySize="25000" />
      <DstRect xOff="487072" yOff="566096" xSize="25000" ySize="25000" />
      <NODATA>-99</NODATA>
    </ComplexSource>
    <ComplexSource>
      <SourceFilename relativeToVRT="0">/vsicurl/https://storage.googleapis.com/open-buildings-temporal-data/v1/geotiffs/00afc_2016_06_30/tile_BXQDV4Q4SrI.tif</SourceFilename>
      <SourceBand>2</SourceBand>
      <SourceProperties RasterXSize="25000" RasterYSize="25000" DataType="Float32" BlockXSize="512" BlockYSize="512" />
      <SrcRect xOff="0" yOff="0" xSize="25000" ySize="25000" />
      <DstRect xOff="512072" yOff="541096" xSize="25000" ySize="25000" />
      <NODATA>-99</NODATA>
    </ComplexSource>
    <ComplexSource>
      <SourceFilename relativeToVRT="0">/vsicurl/https://storage.googleapis.com/open-buildings-temporal-data/v1/geotiffs/00afc_2016_06_30/tile_K8idvFQPm1w.tif</SourceFilename>
      <SourceBand>2</SourceBand>
      <SourceProperties RasterXSize="25000" RasterYSize="25000" DataType="Float32" BlockXSize="512" BlockYSize="512" />
      <SrcRect xOff="0" yOff="0" xSize="25000" ySize="25000" />
      <DstRect xOff="412072" yOff="541096" xSize="25000" ySize="25000" />
      <NODATA>-99</NODATA>
    </ComplexSource>
    <ComplexSource>
      <SourceFilename relativeToVRT="0">/vsicurl/https://storage.googleapis.com/open-buildings-temporal-data/v1/geotiffs/00afc_2016_06_30/tile_DmuRRCecqyw.tif</SourceFilename>
      <SourceBand>2</SourceBand>
      <SourceProperties RasterXSize="25000" RasterYSize="25000" DataType="Float32" BlockXSize="512" BlockYSize="512" />
      <SrcRect xOff="0" yOff="0" xSize="25000" ySize="25000" />
      <DstRect xOff="512072" yOff="566096" xSize="25000" ySize="25000" />
      <NODATA>-99</NODATA>
    </ComplexSource>
    <ComplexSource>
      <SourceFilename relativeToVRT="0">/vsicurl/https://storage.googleapis.com/open-buildings-temporal-data/v1/geotiffs/00afc_2016_06_30/tile_Ongw_vQ1xds.tif</SourceFilename>
      <SourceBand>2</SourceBand>
      <SourceProperties RasterXSize="25000" RasterYSize="25000" DataType="Float32" BlockXSize="512" BlockYSize="512" />
      <SrcRect xOff="0" yOff="0" xSize="25000" ySize="25000" />
      <DstRect xOff="487072" yOff="641096" xSize="25000" ySize="25000" />
      <NODATA>-99</NODATA>
    </ComplexSource>
    <ComplexSource>
      <SourceFilename relativeToVRT="0">/vsicurl/https://storage.googleapis.com/open-buildings-temporal-data/v1/geotiffs/00afc_2016_06_30/tile_D77f8s2rN2E.tif</SourceFilename>
      <SourceBand>2</SourceBand>
      <SourceProperties RasterXSize="25000" RasterYSize="25000" DataType="Float32" BlockXSize="512" BlockYSize="512" />
      <SrcRect xOff="0" yOff="0" xSize="25000" ySize="25000" />
      <DstRect xOff="512072" yOff="616096" xSize="25000" ySize="25000" />
      <NODATA>-99</NODATA>
    </ComplexSource>
    <ComplexSource>
      <SourceFilename relativeToVRT="0">/vsicurl/https://storage.googleapis.com/open-buildings-temporal-data/v1/geotiffs/00afc_2016_06_30/tile_jH6PzNIJiHY.tif</SourceFilename>
      <SourceBand>2</SourceBand>
      <SourceProperties RasterXSize="25000" RasterYSize="25000" DataType="Float32" BlockXSize="512" BlockYSize="512" />
      <SrcRect xOff="0" yOff="0" xSize="25000" ySize="25000" />
      <DstRect xOff="437072" yOff="541096" xSize="25000" ySize="25000" />
      <NODATA>-99</NODATA>
    </ComplexSource>
    <ComplexSource>
      <SourceFilename relativeToVRT="0">/vsicurl/https://storage.googleapis.com/open-buildings-temporal-data/v1/geotiffs/00afc_2016_06_30/tile_S5PW5fodZhs.tif</SourceFilename>
      <SourceBand>2</SourceBand>
      <SourceProperties RasterXSize="25000" RasterYSize="25000" DataType="Float32" BlockXSize="512" BlockYSize="512" />
      <SrcRect xOff="0" yOff="0" xSize="25000" ySize="25000" />
      <DstRect xOff="512072" yOff="666096" xSize="25000" ySize="25000" />
      <NODATA>-99</NODATA>
    </ComplexSource>
    <ComplexSource>
      <SourceFilename relativeToVRT="0">/vsicurl/https://storage.googleapis.com/open-buildings-temporal-data/v1/geotiffs/00afc_2016_06_30/tile_iieeFoNHeBY.tif</SourceFilename>
      <SourceBand>2</SourceBand>
      <SourceProperties RasterXSize="25000" RasterYSize="25000" DataType="Float32" BlockXSize="512" BlockYSize="512" />
      <SrcRect xOff="0" yOff="0" xSize="25000" ySize="25000" />
      <DstRect xOff="412072" yOff="516096" xSize="25000" ySize="25000" />
      <NODATA>-99</NODATA>
    </ComplexSource>
    <ComplexSource>
      <SourceFilename relativeToVRT="0">/vsicurl/https://storage.googleapis.com/open-buildings-temporal-data/v1/geotiffs/00afc_2016_06_30/tile_vnyqHt3r5ik.tif</SourceFilename>
      <SourceBand>2</SourceBand>
      <SourceProperties RasterXSize="25000" RasterYSize="25000" DataType="Float32" BlockXSize="512" BlockYSize="512" />
      <SrcRect xOff="0" yOff="0" xSize="25000" ySize="25000" />
      <DstRect xOff="437072" yOff="666096" xSize="25000" ySize="25000" />
      <NODATA>-99</NODATA>
    </ComplexSource>
    <ComplexSource>
      <SourceFilename relativeToVRT="0">/vsicurl/https://storage.googleapis.com/open-buildings-temporal-data/v1/geotiffs/00afc_2016_06_30/tile_a1xvZ8oa9aM.tif</SourceFilename>
      <SourceBand>2</SourceBand>
      <SourceProperties RasterXSize="25000" RasterYSize="25000" DataType="Float32" BlockXSize="512" BlockYSize="512" />
      <SrcRect xOff="0" yOff="0" xSize="25000" ySize="25000" />
      <DstRect xOff="412072" yOff="641096" xSize="25000" ySize="25000" />
      <NODATA>-99</NODATA>
    </ComplexSource>
    <ComplexSource>
      <SourceFilename relativeToVRT="0">/vsicurl/https://storage.googleapis.com/open-buildings-temporal-data/v1/geotiffs/00afc_2016_06_30/tile_DE_EoFy9oLQ.tif</SourceFilename>
      <SourceBand>2</SourceBand>
      <SourceProperties RasterXSize="25000" RasterYSize="25000" DataType="Float32" BlockXSize="512" BlockYSize="512" />
      <SrcRect xOff="0" yOff="0" xSize="25000" ySize="25000" />
      <DstRect xOff="462072" yOff="591096" xSize="25000" ySize="25000" />
      <NODATA>-99</NODATA>
    </ComplexSource>
    <ComplexSource>
      <SourceFilename relativeToVRT="0">/vsicurl/https://storage.googleapis.com/open-buildings-temporal-data/v1/geotiffs/00afc_2016_06_30/tile_ALOBxxbIwbg.tif</SourceFilename>
      <SourceBand>2</SourceBand>
      <SourceProperties RasterXSize="25000" RasterYSize="25000" DataType="Float32" BlockXSize="512" BlockYSize="512" />
      <SrcRect xOff="0" yOff="0" xSize="25000" ySize="25000" />
      <DstRect xOff="387072" yOff="641096" xSize="25000" ySize="25000" />
      <NODATA>-99</NODATA>
    </ComplexSource>
    <ComplexSource>
      <SourceFilename relativeToVRT="0">/vsicurl/https://storage.googleapis.com/open-buildings-temporal-data/v1/geotiffs/00afc_2016_06_30/tile_OTXZP6kgZ2E.tif</SourceFilename>
      <SourceBand>2</SourceBand>
      <SourceProperties RasterXSize="25000" RasterYSize="25000" DataType="Float32" BlockXSize="512" BlockYSize="512" />
      <SrcRect xOff="0" yOff="0" xSize="25000" ySize="25000" />
      <DstRect xOff="387072" yOff="541096" xSize="25000" ySize="25000" />
      <NODATA>-99</NODATA>
    </ComplexSource>
    <ComplexSource>
      <SourceFilename relativeToVRT="0">/vsicurl/https://storage.googleapis.com/open-buildings-temporal-data/v1/geotiffs/00afc_2016_06_30/tile_yMwP8ZteH6Q.tif</SourceFilename>
      <SourceBand>2</SourceBand>
      <SourceProperties RasterXSize="25000" RasterYSize="25000" DataType="Float32" BlockXSize="512" BlockYSize="512" />
      <SrcRect xOff="0" yOff="0" xSize="25000" ySize="25000" />
      <DstRect xOff="462072" yOff="641096" xSize="25000" ySize="25000" />
      <NODATA>-99</NODATA>
    </ComplexSource>
    <ComplexSource>
      <SourceFilename relativeToVRT="0">/vsicurl/https://storage.googleapis.com/open-buildings-temporal-data/v1/geotiffs/00afc_2016_06_30/tile_ZtGdiQ1q8MQ.tif</SourceFilename>
      <SourceBand>2</SourceBand>
      <SourceProperties RasterXSize="25000" RasterYSize="25000" DataType="Float32" BlockXSize="512" BlockYSize="512" />
      <SrcRect xOff="0" yOff="0" xSize="25000" ySize="25000" />
      <DstRect xOff="387072" yOff="491096" xSize="25000" ySize="25000" />
      <NODATA>-99</NODATA>
    </ComplexSource>
    <ComplexSource>
      <SourceFilename relativeToVRT="0">/vsicurl/https://storage.googleapis.com/open-buildings-temporal-data/v1/geotiffs/00afc_2016_06_30/tile_7If_qkFAuWk.tif</SourceFilename>
      <SourceBand>2</SourceBand>
      <SourceProperties RasterXSize="25000" RasterYSize="25000" DataType="Float32" BlockXSize="512" BlockYSize="512" />
      <SrcRect xOff="0" yOff="0" xSize="25000" ySize="25000" />
      <DstRect xOff="462072" yOff="616096" xSize="25000" ySize="25000" />
      <NODATA>-99</NODATA>
    </ComplexSource>
    <ComplexSource>
      <SourceFilename relativeToVRT="0">/vsicurl/https://storage.googleapis.com/open-buildings-temporal-data/v1/geotiffs/00afc_2016_06_30/tile_VwGK9EgFEwc.tif</SourceFilename>
      <SourceBand>2</SourceBand>
      <SourceProperties RasterXSize="25000" RasterYSize="25000" DataType="Float32" BlockXSize="512" BlockYSize="512" />
      <SrcRect xOff="0" yOff="0" xSize="25000" ySize="25000" />
      <DstRect xOff="462072" yOff="666096" xSize="25000" ySize="25000" />
      <NODATA>-99</NODATA>
    </ComplexSource>
    <ComplexSource>
      <SourceFilename relativeToVRT="0">/vsicurl/https://storage.googleapis.com/open-buildings-temporal-data/v1/geotiffs/00afc_2016_06_30/tile_nTjMVZwmImY.tif</SourceFilename>
      <SourceBand>2</SourceBand>
      <SourceProperties RasterXSize="25000" RasterYSize="25000" DataType="Float32" BlockXSize="512" BlockYSize="512" />
      <SrcRect xOff="0" yOff="0" xSize="25000" ySize="25000" />
      <DstRect xOff="487072" yOff="616096" xSize="25000" ySize="25000" />
      <NODATA>-99</NODATA>
    </ComplexSource>
    <ComplexSource>
      <SourceFilename relativeToVRT="0">/vsicurl/https://storage.googleapis.com/open-buildings-temporal-data/v1/geotiffs/00afc_2016_06_30/tile_dYIqHcyBXvY.tif</SourceFilename>
      <SourceBand>2</SourceBand>
      <SourceProperties RasterXSize="25000" RasterYSize="25000" DataType="Float32" BlockXSize="512" BlockYSize="512" />
      <SrcRect xOff="0" yOff="0" xSize="25000" ySize="25000" />
      <DstRect xOff="387072" yOff="591096" xSize="25000" ySize="25000" />
      <NODATA>-99</NODATA>
    </ComplexSource>
    <ComplexSource>
      <SourceFilename relativeToVRT="0">/vsicurl/https://storage.googleapis.com/open-buildings-temporal-data/v1/geotiffs/00afc_2016_06_30/tile_KArdpmeCSsE.tif</SourceFilename>
      <SourceBand>2</SourceBand>
      <SourceProperties RasterXSize="25000" RasterYSize="25000" DataType="Float32" BlockXSize="512" BlockYSize="512" />
      <SrcRect xOff="0" yOff="0" xSize="25000" ySize="25000" />
      <DstRect xOff="387072" yOff="616096" xSize="25000" ySize="25000" />
      <NODATA>-99</NODATA>
    </ComplexSource>
    <ComplexSource>
      <SourceFilename relativeToVRT="0">/vsicurl/https://storage.googleapis.com/open-buildings-temporal-data/v1/geotiffs/00afc_2016_06_30/tile_1Ctv3JGmyYE.tif</SourceFilename>
      <SourceBand>2</SourceBand>
      <SourceProperties RasterXSize="25000" RasterYSize="25000" DataType="Float32" BlockXSize="512" BlockYSize="512" />
      <SrcRect xOff="0" yOff="0" xSize="25000" ySize="25000" />
      <DstRect xOff="462072" yOff="566096" xSize="25000" ySize="25000" />
      <NODATA>-99</NODATA>
    </ComplexSource>
    <ComplexSource>
      <SourceFilename relativeToVRT="0">/vsicurl/https://storage.googleapis.com/open-buildings-temporal-data/v1/geotiffs/00afc_2016_06_30/tile_F9jLPDEO9MM.tif</SourceFilename>
      <SourceBand>2</SourceBand>
      <SourceProperties RasterXSize="25000" RasterYSize="25000" DataType="Float32" BlockXSize="512" BlockYSize="512" />
      <SrcRect xOff="0" yOff="0" xSize="25000" ySize="25000" />
      <DstRect xOff="437072" yOff="616096" xSize="25000" ySize="25000" />
      <NODATA>-99</NODATA>
    </ComplexSource>
    <ComplexSource>
      <SourceFilename relativeToVRT="0">/vsicurl/https://storage.googleapis.com/open-buildings-temporal-data/v1/geotiffs/00afc_2016_06_30/tile_GHyJmkBZegc.tif</SourceFilename>
      <SourceBand>2</SourceBand>
      <SourceProperties RasterXSize="25000" RasterYSize="25000" DataType="Float32" BlockXSize="512" BlockYSize="512" />
      <SrcRect xOff="0" yOff="0" xSize="25000" ySize="25000" />
      <DstRect xOff="462072" yOff="541096" xSize="25000" ySize="25000" />
      <NODATA>-99</NODATA>
    </ComplexSource>
    <ComplexSource>
      <SourceFilename relativeToVRT="0">/vsicurl/https://storage.googleapis.com/open-buildings-temporal-data/v1/geotiffs/00afc_2016_06_30/tile_tYjS3fzJ7xY.tif</SourceFilename>
      <SourceBand>2</SourceBand>
      <SourceProperties RasterXSize="25000" RasterYSize="25000" DataType="Float32" BlockXSize="512" BlockYSize="512" />
      <SrcRect xOff="0" yOff="0" xSize="25000" ySize="25000" />
      <DstRect xOff="412072" yOff="591096" xSize="25000" ySize="25000" />
      <NODATA>-99</NODATA>
    </ComplexSource>
    <ComplexSource>
      <SourceFilename relativeToVRT="0">/vsicurl/https://storage.googleapis.com/open-buildings-temporal-data/v1/geotiffs/00afc_2016_06_30/tile_ZW5207z6q54.tif</SourceFilename>
      <SourceBand>2</SourceBand>
      <SourceProperties RasterXSize="25000" RasterYSize="25000" DataType="Float32" BlockXSize="512" BlockYSize="512" />
      <SrcRect xOff="0" yOff="0" xSize="25000" ySize="25000" />
      <DstRect xOff="387072" yOff="566096" xSize="25000" ySize="25000" />
      <NODATA>-99</NODATA>
    </ComplexSource>
    <ComplexSource>
      <SourceFilename relativeToVRT="0">/vsicurl/https://storage.googleapis.com/open-buildings-temporal-data/v1/geotiffs/00afc_2016_06_30/tile_4Fqlp9omnyk.tif</SourceFilename>
      <SourceBand>2</SourceBand>
      <SourceProperties RasterXSize="25000" RasterYSize="25000" DataType="Float32" BlockXSize="512" BlockYSize="512" />
      <SrcRect xOff="0" yOff="0" xSize="25000" ySize="25000" />
      <DstRect xOff="437072" yOff="566096" xSize="25000" ySize="25000" />
      <NODATA>-99</NODATA>
    </ComplexSource>
    <ComplexSource>
      <SourceFilename relativeToVRT="0">/vsicurl/https://storage.googleapis.com/open-buildings-temporal-data/v1/geotiffs/00afc_2016_06_30/tile_rnacXzS2pkg.tif</SourceFilename>
      <SourceBand>2</SourceBand>
      <SourceProperties RasterXSize="25000" RasterYSize="25000" DataType="Float32" BlockXSize="512" BlockYSize="512" />
      <SrcRect xOff="0" yOff="0" xSize="25000" ySize="25000" />
      <DstRect xOff="412072" yOff="566096" xSize="25000" ySize="25000" />
      <NODATA>-99</NODATA>
    </ComplexSource>
    <ComplexSource>
      <SourceFilename relativeToVRT="0">/vsicurl/https://storage.googleapis.com/open-buildings-temporal-data/v1/geotiffs/00afc_2016_06_30/tile_3xekvVJjXIM.tif</SourceFilename>
      <SourceBand>2</SourceBand>
      <SourceProperties RasterXSize="25000" RasterYSize="25000" DataType="Float32" BlockXSize="512" BlockYSize="512" />
      <SrcRect xOff="0" yOff="0" xSize="25000" ySize="25000" />
      <DstRect xOff="437072" yOff="516096" xSize="25000" ySize="25000" />
      <NODATA>-99</NODATA>
    </ComplexSource>
    <ComplexSource>
      <SourceFilename relativeToVRT="0">/vsicurl/https://storage.googleapis.com/open-buildings-temporal-data/v1/geotiffs/00afc_2016_06_30/tile_DgA55RdgvTc.tif</SourceFilename>
      <SourceBand>2</SourceBand>
      <SourceProperties RasterXSize="25000" RasterYSize="25000" DataType="Float32" BlockXSize="512" BlockYSize="512" />
      <SrcRect xOff="0" yOff="0" xSize="25000" ySize="25000" />
      <DstRect xOff="462072" yOff="516096" xSize="25000" ySize="25000" />
      <NODATA>-99</NODATA>
    </ComplexSource>
    <ComplexSource>
      <SourceFilename relativeToVRT="0">/vsicurl/https://storage.googleapis.com/open-buildings-temporal-data/v1/geotiffs/00afc_2016_06_30/tile_IEtrzOntbJU.tif</SourceFilename>
      <SourceBand>2</SourceBand>
      <SourceProperties RasterXSize="25000" RasterYSize="25000" DataType="Float32" BlockXSize="512" BlockYSize="512" />
      <SrcRect xOff="0" yOff="0" xSize="25000" ySize="25000" />
      <DstRect xOff="437072" yOff="641096" xSize="25000" ySize="25000" />
      <NODATA>-99</NODATA>
    </ComplexSource>
    <ComplexSource>
      <SourceFilename relativeToVRT="0">/vsicurl/https://storage.googleapis.com/open-buildings-temporal-data/v1/geotiffs/00ad4_2016_06_30/tile_qFXzkEhYCrg.tif</SourceFilename>
      <SourceBand>2</SourceBand>
      <SourceProperties RasterXSize="25000" RasterYSize="25000" DataType="Float32" BlockXSize="512" BlockYSize="512" />
      <SrcRect xOff="0" yOff="0" xSize="25000" ySize="25000" />
      <DstRect xOff="512072" yOff="191736" xSize="25000" ySize="25000" />
      <NODATA>-99</NODATA>
    </ComplexSource>
    <ComplexSource>
      <SourceFilename relativeToVRT="0">/vsicurl/https://storage.googleapis.com/open-buildings-temporal-data/v1/geotiffs/00ad4_2016_06_30/tile_hJO8PLqGNcE.tif</SourceFilename>
      <SourceBand>2</SourceBand>
      <SourceProperties RasterXSize="25000" RasterYSize="25000" DataType="Float32" BlockXSize="512" BlockYSize="512" />
      <SrcRect xOff="0" yOff="0" xSize="25000" ySize="25000" />
      <DstRect xOff="487072" yOff="191736" xSize="25000" ySize="25000" />
      <NODATA>-99</NODATA>
    </ComplexSource>
    <ComplexSource>
      <SourceFilename relativeToVRT="0">/vsicurl/https://storage.googleapis.com/open-buildings-temporal-data/v1/geotiffs/00ad4_2016_06_30/tile_KptwpvuUtYc.tif</SourceFilename>
      <SourceBand>2</SourceBand>
      <SourceProperties RasterXSize="25000" RasterYSize="25000" DataType="Float32" BlockXSize="512" BlockYSize="512" />
      <SrcRect xOff="0" yOff="0" xSize="25000" ySize="25000" />
      <DstRect xOff="412072" yOff="216736" xSize="25000" ySize="25000" />
      <NODATA>-99</NODATA>
    </ComplexSource>
    <ComplexSource>
      <SourceFilename relativeToVRT="0">/vsicurl/https://storage.googleapis.com/open-buildings-temporal-data/v1/geotiffs/00ad4_2016_06_30/tile_onCfYOT5tkA.tif</SourceFilename>
      <SourceBand>2</SourceBand>
      <SourceProperties RasterXSize="25000" RasterYSize="25000" DataType="Float32" BlockXSize="512" BlockYSize="512" />
      <SrcRect xOff="0" yOff="0" xSize="25000" ySize="25000" />
      <DstRect xOff="437072" yOff="191736" xSize="25000" ySize="25000" />
      <NODATA>-99</NODATA>
    </ComplexSource>
    <ComplexSource>
      <SourceFilename relativeToVRT="0">/vsicurl/https://storage.googleapis.com/open-buildings-temporal-data/v1/geotiffs/00ad4_2016_06_30/tile_HUufC0rQixc.tif</SourceFilename>
